BEGIN:VCALENDAR
VERSION:2.0
PRODID:-//Alberto Ortega - ECPv6.10.2//NONSGML v1.0//EN
CALSCALE:GREGORIAN
METHOD:PUBLISH
X-WR-CALNAME:Alberto Ortega
X-ORIGINAL-URL:https://albertoortega.es
X-WR-CALDESC:Eventos para Alberto Ortega
REFRESH-INTERVAL;VALUE=DURATION:PT1H
X-Robots-Tag:noindex
X-PUBLISHED-TTL:PT1H
BEGIN:VTIMEZONE
TZID:UTC
BEGIN:STANDARD
TZOFFSETFROM:+0000
TZOFFSETTO:+0000
TZNAME:UTC
DTSTART:20230101T000000
END:STANDARD
END:VTIMEZONE
BEGIN:VEVENT
DTSTART;TZID=UTC:20230923T100000
DTEND;TZID=UTC:20230924T143000
DTSTAMP:20260424T094445
CREATED:20230610T100829Z
LAST-MODIFIED:20230914T101634Z
UID:9597-1695463200-1695565800@albertoortega.es
SUMMARY:PIIE INTENSIVO CON ALBERTO ORTEGA EN ALGECIRAS -EDUCACIÓN EMOCIONAL-
DESCRIPTION:Dirigido a cualquier persona mayor de 16 años interesada en la Educación Emocional\, este taller de fin de semana será llevado en su totalidad por Alberto Ortega (pincha aquí para más info)\, creador del Programa de Implantación de la Inteligencia Emocional en el ámbito educativo -PIIE- (pincha aquí para más info). \nTendrá lugar el fin de semana del 23-24 de septiembre en el Hotel Montera Plaza de Los Barrios (si quieres información sobre la edición de Sevilla\, pincha aquí). Durante las 15 horas que dura el taller vivencial (Sábado de 10 a 14.30 y de 16 a 21.30 y Domingo de 9.30 a 14.30) se desarrollarán todas las distinciones del PIIE\, aplicables a cualquier ámbito (personal\, educativo\, familiar\, sanitario\, corporativo\, etc.) \nPosteriormente al taller se facilitarán de forma online para los participantes que sean docentes o futuros docentes y no lo hayan cursado aún\, los contenidos correspondientes al módulo de implantación en el ámbito educativo (5 horas). Aquellos docentes que entreguen la tarea y pasen una prueba en el transcurso de 2 semanas\, recibirán todo el material de implantación en el aula así como una licencia de uso personal de por vida. \nPodrán asistir menores de edad siempre que vayan acompañados/as de padre\, madre o tutor/a y hayan cumplido los 16 años en la fecha del evento. Familiares y docentes del mismo centro escolar\, podrán acogerse al precio de inscripción doble. \n \nPara inscribirte\, puedes realizar un bizum al 625434628 o transferencia al IBAN ES35 0049 0606 1329 1219 6998 (Banco Santander; Titular: Alberto Ortega Cámara) indicando en el concepto el/los número/s de teléfono de el/l@S participante/s (ejemplo: “625434628 y 693582532”). \nRecordamos que el propósito de esta formación es pura y meramente educativa/preventiva por lo que\, aquellas personas que no se encuentren bien\, estén en algún proceso terapéutico y/o tratamiento médico\, deben consultar con un profesional de la salud mental la idoneidad de la asistencia a la formación. \nSi tienes alguna duda puedes consultarme por WhatsApp al 625434628. Plazas limitadas. \n¿Nos vemos? \nUn abrazo fuerte\, \n  \nAlberto Ortega
URL:https://albertoortega.es/event/piie-intensivo-con-alberto-ortega-educacion-emocional-algeciras/
LOCATION:Hotel Montera Plaza\, Av. Carlos Cano\, s/n\, Los Barrios\, Cádiz\, 11370
ATTACH;FMTTYPE=image/jpeg:https://albertoortega.es/wp-content/uploads/2023/05/11a-edicion-PIIE-Intensivo-14-14-enero-Sevilla-Educacion-Emocional-1.jpg
ORGANIZER;CN="Alberto Ortega":MAILTO:aortegacoaching@gmail.com
END:VEVENT
END:VCALENDAR